BEGIN:VCALENDAR
VERSION:2.0
PRODID:-//ChamberMaster//Event Calendar 2.0//EN
METHOD:PUBLISH
X-PUBLISHED-TTL:P3D
REFRESH-INTERVAL:P3D
CALSCALE:GREGORIAN
BEGIN:VEVENT
DTSTART:20220724T000000Z
DTEND:20220724T060000Z
X-MICROSOFT-CDO-ALLDAYEVENT:FALSE
SUMMARY:Comedian Jason Ramsey
DESCRIPTION:Comedian Jason Ramsey and DJJuan on Stage\, at the Bowladrome Lane 31 Beer/Alcohol Garden! $10 at the door 6pm-12am
X-ALT-DESC;FMTTYPE=text/html:Comedian Jason Ramsey and DJJuan on Stage\, at the Bowladrome Lane 31 Beer/Alcohol Garden! $10 at the door 6pm-12am
LOCATION:The Bowladrome 220 Eastland Drive Twin Falls\, ID
UID:e.1192.6815
SEQUENCE:3
DTSTAMP:20260425T005505Z
URL:http://business.twinfallschamber.com/events/details/comedian-jason-ramsey-6815
END:VEVENT

END:VCALENDAR
