BEGIN:VCALENDAR
VERSION:2.0
PRODID:-//ChamberMaster//Event Calendar 2.0//EN
METHOD:PUBLISH
X-PUBLISHED-TTL:P3D
REFRESH-INTERVAL:P3D
CALSCALE:GREGORIAN
BEGIN:VEVENT
DTSTART;VALUE=DATE:20191207
DTEND;VALUE=DATE:20191208
TRANSP:TRANSPARENT
X-MICROSOFT-CDO-ALLDAYEVENT:TRUE
SUMMARY:MVAC hosts Art of the Gift: Authors & Artisans on the Rim
DESCRIPTION:The Magic Valley Arts Council and Full Moon Gallery of Fine Art and Contemporary Craft present The Art of the Gift: Authors & Artisans on the Rim\, Saturday\, December 7 from 10 am to 3 pm at the Twin Falls Center for the Arts\, 195 River Vista Place. Just in time for the gift-giving season\, this Premiere Gift and Book Fair features 15 Local Authors & 35 Local Artisans. Shoppers will find unique hand-made gifts\, ceramics\, furniture\, jewelry\, paintings\, photography\, and woodwork. Admission is Free.\n\n \n\nLocal authors featured are Kirk Anderson\, Liyah Babayan\, Lejla Becirovic\, Jane Bennett Munro\, Rebecca Bischoff\, Sharon Farsijani\, Page Geske\, Shari Hart\, Stephen Hartgen\, Linda Lantzy\, David Mensing\, Jill Skeem\, Cindy Staples\, Bev Stone\, and Julie Weston. \n\n \n\nFeatured artists are Full Moon Gallery of Fine Art members Connor Acklin\, Paula Brown Sinclair\, Kim Critchfield\, Joyce Deford\, Jerry Dodds\, Neva Edwards\, Gloria Hann\, Rick Kuhn\, Rosi Martinez Eckert\, Roy Mason\, Barbara Michener\, Jan Mittleider\, Betsy Morishita\, Connie Pepper\, Donald Pica\, Corinne Slusser\, Bev Stone\, Leon Smith and Judy Therrien. Special Guest Artists are Mandi Ayers\, Angela Batchelor\, Iris Boyd\, Ronda Cutlip\, Gary Dempsay\, Ashley Dubois\, Brenda Ford\, Kathy Hanson\, Lynnae Hymas\, Cory King\, Dick & Judy Morris\, Allison Meyerhoff\, J. C. Olmstead\, Ken Patterson\, Tim Pryor\, and Gene Sherman.\n\n \n\nFor more information call 734-ARTS (2787) or www.magicvalleyartscouncil.org\n\n \n\nThe Magic Valley Arts Council is the official arts agency of the City of Twin Falls as designated in 1994 by the Twin Falls City Council. The Arts Council's mission is to foster and promote experiences in the arts for all people in the Greater Twin Falls area. The Arts Council is an association of arts organizations\, individuals\, educational institutions and businesses.  \n\n# # #
X-ALT-DESC;FMTTYPE=text/html:<span style="font-family:arial\,sans-serif"><span style="font-size:11.0pt">The Magic Valley Arts Council and Full Moon Gallery of Fine Art and Contemporary Craft present <em>The <span style="color:black">Art of the Gift: Authors &amp\; Artisans on the Rim</span></em><span style="color:black">\, Saturday\, December 7 from 10 am to 3 pm at the Twin Falls Center for the Arts\, 195 River Vista Place. Just in time for the gift-giving season\, this <strong>Premiere Gift and Book Fair </strong>features 15 Local Authors &amp\; 35 Local Artisans. Shoppers will find unique hand-made gifts\, ceramics\, furniture\, jewelry\, paintings\, photography\, and woodwork. Admission is Free.</span></span></span><br />\n&nbsp\;<br />\n<span style="color:black"><span style="font-family:arial\,sans-serif"><span style="font-size:11.0pt">Local authors featured are Kirk Anderson\, Liyah Babayan\, Lejla Becirovic\, Jane Bennett Munro\, Rebecca Bischoff\, Sharon Farsijani\, Page Geske\, Shari Hart\, Stephen Hartgen\, Linda Lantzy\, David Mensing\, Jill Skeem\, Cindy Staples\, Bev Stone\, and Julie Weston. </span></span></span><br />\n&nbsp\;<br />\n<span style="color:black"><span style="font-family:arial\,sans-serif"><span style="font-size:11.0pt">Featured artists are Full Moon Gallery of Fine Art members Connor Acklin\, Paula Brown Sinclair\, Kim Critchfield\, Joyce Deford\, Jerry Dodds\, Neva Edwards\, Gloria Hann\, Rick Kuhn\, Rosi Martinez Eckert\, Roy Mason\, Barbara Michener\, Jan Mittleider\, Betsy Morishita\, Connie Pepper\, Donald Pica\, Corinne Slusser\, Bev Stone\, Leon Smith and Judy Therrien. Special Guest Artists are Mandi Ayers\, Angela Batchelor\, Iris Boyd\, Ronda Cutlip\, Gary Dempsay\, Ashley Dubois\, Brenda Ford\, Kathy Hanson\, Lynnae Hymas\, Cory King\, Dick &amp\; Judy Morris\, Allison Meyerhoff\, J. C. Olmstead\, Ken Patterson\, Tim Pryor\, and Gene Sherman.</span></span></span><br />\n&nbsp\;<br />\n<span style="color:black"><span style="font-family:arial\,sans-serif"><span style="font-size:11.0pt">For more information call 734-ARTS (2787) </span></span></span><span style="color:black"><span style="font-family:arial\,sans-serif"><span style="font-size:11.0pt">or www.magicvalleyartscouncil.org</span></span></span><br />\n&nbsp\;<br />\n<span style="font-size:11.0pt">The Magic Valley Arts Council is the official arts agency of the City of Twin Falls as designated in 1994 by the Twin Falls City Council. The Arts Council&rsquo\;s mission is to foster and promote experiences in the arts for all people in the Greater Twin Falls area. The Arts Council is an association of arts organizations\, individuals\, educational institutions and businesses.&nbsp\; </span><br />\n<strong><span style="font-family:arial\,sans-serif"><span style="font-size:11.0pt"># # #</span></span></strong>
LOCATION:Twin Falls Center for the Arts
UID:e.1192.6080
SEQUENCE:3
DTSTAMP:20260422T221749Z
URL:http://business.twinfallschamber.com/events/details/mvac-hosts-art-of-the-gift-authors-artisans-on-the-rim-6080
END:VEVENT

END:VCALENDAR
