BEGIN:VCALENDAR
VERSION:2.0
PRODID:-//ChamberMaster//Event Calendar 2.0//EN
METHOD:PUBLISH
X-PUBLISHED-TTL:P3D
REFRESH-INTERVAL:P3D
CALSCALE:GREGORIAN
BEGIN:VEVENT
DTSTART:20210804T150000Z
DTEND:20210804T230000Z
X-MICROSOFT-CDO-ALLDAYEVENT:FALSE
SUMMARY:Candidate Training Academy Sponsored by Western Magic Valley Realtors
DESCRIPTION:If you are interested at all in running for a publicly elected office or assisting someone in their campaign then we have the event for you!  National Association of REALTORS  Candidate Training Academy is coming to Twin Falls\, LIVE & IN PERSON on Wednesday August 4th from 9:00 AM to 5:00 PM.  We will be offering this Live here in Twin and remoting this out across the state of Idaho!  The cost is $25.00 for a REALTOR  or REALTOR  Affiliate\, $50.00 for the Public\, and FREE for RPAC Major Investors!!!  Space is limited so register today!
X-ALT-DESC;FMTTYPE=text/html:<span style="color:rgb(32\, 31\, 30)\; font-family:calibri\,sans-serif\; font-size:14.6667px"><strong>If you are interested at all in running for a publicly elected office</strong> or assisting someone in their campaign then we have the event for you!&nbsp\;<strong> National Association of REALTORS&reg\; Candidate Training Academy</strong> is coming to Twin Falls\, LIVE &amp\; IN PERSON on <strong>Wednesday August 4</strong></span><strong><sup>th</sup></strong><span style="color:rgb(32\, 31\, 30)\; font-family:calibri\,sans-serif\; font-size:14.6667px"><strong>&nbsp\;from 9:00 AM to 5:00 PM.</strong>&nbsp\; We will be offering this <strong>Live</strong> here in Twin and remoting this out across the state of Idaho!&nbsp\; The cost is $25.00 for a REALTOR&reg\; or REALTOR&reg\; Affiliate\, $50.00 for the Public\, and FREE for RPAC Major Investors!!!&nbsp\; <u>Space is limited so register today!</u></span>
LOCATION:Western Magic Valley Realtors 1162 Eastland Drive No \, Suite 1 Twin Falls\, ID 83301
UID:e.1192.6690
SEQUENCE:3
DTSTAMP:20260422T170035Z
URL:https://business.twinfallschamber.com/events/details/candidate-training-academy-sponsored-by-western-magic-valley-realtors-6690
END:VEVENT

END:VCALENDAR
